BEGIN:VCALENDAR
VERSION:2.0
PRODID:-//Българският портал за участие в Хоризонт Европа - ECPv5.10.0//NONSGML v1.0//EN
CALSCALE:GREGORIAN
METHOD:PUBLISH
X-WR-CALNAME:Българският портал за участие в Хоризонт Европа
X-ORIGINAL-URL:https://horizoneu.mon.bg
X-WR-CALDESC:Събития за Българският портал за участие в Хоризонт Европа
BEGIN:VTIMEZONE
TZID:UTC
BEGIN:STANDARD
TZOFFSETFROM:+0000
TZOFFSETTO:+0000
TZNAME:UTC
DTSTART:20210101T000000
END:STANDARD
END:VTIMEZONE
BEGIN:VEVENT
DTSTART;VALUE=DATE:20211012
DTEND;VALUE=DATE:20211013
DTSTAMP:20211021T213851
CREATED:20210902T145555Z
LAST-MODIFIED:20210902T145555Z
UID:1332-1633996800-1634083199@horizoneu.mon.bg
SUMMARY:Уебинар: Empowering & protecting creativity through intellectual property
DESCRIPTION:На 12 октомври 2021г. EIT и Еuropean union intellectual property office организират уебинар\, който ще разгледа: \n\nПлановете на EIT за подкрепа на иновациите в CCSI чрез нова ОЗИ: EIT Култура и творчество.\nКакво е интелектуална собственост? Каква роля играе в творческите сектори и индустрии? Кои са основните права на интелектуалната собственост и как те дават възможност на МСП в творческата индустрия? Кои са дейностите и инициативите на EUIPO\, свързани с културата\, и как те обслужват МСП?\n\nСлед уебинара участниците ще получат отговори на въпросите: \n\nКак мога да участвам в поканата за представяне на предложения на EIT за новата KIC EIT Култура и творчество?\nКак да защитя идеите си по време на процеса на създаване и представяне?\nКак правата на ИС подпомагат генерирането на приходи в творческата и културната индустрия?\nКак да защитя моята марка и дизайни от нарушители (копия) и конкуренти?\nКак инициативата на EUIPO „Ideas Powered“ и други дейности\, свързани с културата\, могат да подкрепят моя бизнес при създаването на моята IP стратегия?\n\nЗа повече информация и регстрация за уебинара може да проследите тази препратка.
URL:https://horizoneu.mon.bg/events_calendar/uebinar-empowering-protecting-creativity-through-intellectual-property/
END:VEVENT
END:VCALENDAR