BEGIN:VCALENDAR
VERSION:2.0
PRODID:-//Българският портал за участие в Хоризонт Европа - ECPv5.9.2//NONSGML v1.0//EN
CALSCALE:GREGORIAN
METHOD:PUBLISH
X-WR-CALNAME:Българският портал за участие в Хоризонт Европа
X-ORIGINAL-URL:https://horizoneu.mon.bg
X-WR-CALDESC:Събития за Българският портал за участие в Хоризонт Европа
BEGIN:VTIMEZONE
TZID:UTC
BEGIN:STANDARD
TZOFFSETFROM:+0000
TZOFFSETTO:+0000
TZNAME:UTC
DTSTART:20210101T000000
END:STANDARD
END:VTIMEZONE
BEGIN:VEVENT
DTSTART;VALUE=DATE:20210928
DTEND;VALUE=DATE:20210929
DTSTAMP:20211018T105623
CREATED:20210804T110944Z
LAST-MODIFIED:20210804T111129Z
UID:1262-1632787200-1632873599@horizoneu.mon.bg
SUMMARY:Предстоящо обучение във връзка с разработването на планове за равенство между половете като предварително условие за участие в „Хоризонт Европа“
DESCRIPTION:Европейската комисия организира серия от обучения във връзка с разработването на планове за равенство между половете като предварително условие за участие в Рамковата програма за научни изследвания и иновации на ЕС „Хоризонт Европа“ (2021-2027 г.). Първото обучение ще се проведе онлайн на 28 септември 2021 г. и е насочено към България. За участие са поканени институции\, изследователски организации\, висши училища в страната\, както и всички заинтересовани страни в областта на научните изследвания и иновациите. Желаещите могат да заявят своето участие чрез попълване на този формуляр в срок до 6 септември 2021 г. \nПрез настоящата година бе приета съществена промяна в правилата и изискванията за участие в програмата – условието потенциалните бенефициенти по „Хоризонт Европа“ да имат План за равенство между половете. Плановете ще бъдат задължително изискване към публичните институции\, научноизследователските организации и висшите училища за участие в програмата\, като то ще започне да се прилага от 2022 г. От особено значение е организациите да започнат да подготвят своите планове още през 2021 г.\, за да имат достатъчно време за разработването и приемането им\, както и за да не загубят възможност да получат финансиране по рамковата програма през следващата година\, когато изискването ще влезе официално в сила. \nПовече информация за кого е предназначено обучението и какви резултати от него са предвидени можете да прочетете на официалния уебсайт на ЕК.
URL:https://horizoneu.mon.bg/events_calendar/predstojashto-obuchenie-vav-vrazka-s-razr/
END:VEVENT
END:VCALENDAR